BEGIN:VCALENDAR
VERSION:2.0
PRODID:-//Tukios.com/
BEGIN:VEVENT
UID:d5fc5cd2-c988-470f-89d6-f6a3cce02324@www.wilkinsonfuneralhome.com
DTSTAMP:20260424T224907Z
DTSTART:20260427T150000Z
DTEND:20260427T154500Z
SUMMARY:Funeral Service
DESCRIPTION:
URL:https://www.wilkinsonfuneralhome.com/obituaries/carrol-rebbert
LOCATION:Roberta Church 3925 Cochran Rd  Concord NC 28027
GEO:35.350462;-80.6418034
END:VEVENT
END:VCALENDAR