BEGIN:VCALENDAR
VERSION:2.0
PRODID:-//Tukios.com/
BEGIN:VEVENT
UID:2b3962f9-81fa-480e-ad6e-2beb61ac7a2e@www.wilkinsonfuneralhome.com
DTSTAMP:20260424T224349Z
DTSTART:20260427T160000Z
DTEND:20260427T163000Z
SUMMARY:Graveside Service
DESCRIPTION:
URL:https://www.wilkinsonfuneralhome.com/obituaries/carrol-rebbert
LOCATION:Roberta Church Cemetery 3925 Cochran Rd  Concord NC 28027
GEO:35.350462;-80.6418034
END:VEVENT
END:VCALENDAR