BEGIN:VCALENDAR
VERSION:2.0
PRODID:-//Tukios.com/
BEGIN:VEVENT
UID:e8b301b9-7d38-4dc8-9df9-81c37fc9b7b8@www.wilkinsonfuneralhome.com
DTSTAMP:20260424T224217Z
DTSTART:20260427T140000Z
DTEND:20260427T144500Z
SUMMARY:Visitation
DESCRIPTION:
URL:https://www.wilkinsonfuneralhome.com/obituaries/carrol-rebbert
LOCATION:Roberta Church 3925 Cochran Rd  Concord NC 28027
GEO:35.350462;-80.6418034
END:VEVENT
END:VCALENDAR