BEGIN:VCALENDAR
VERSION:2.0
PRODID:-//Tukios.com/
BEGIN:VEVENT
UID:6cebd8b9-2e13-4a23-884b-fa6f85b42383@www.wilkinsonfuneralhome.com
DTSTAMP:20260423T233142Z
DTSTART:20260503T210000Z
DTEND:20260503T220000Z
SUMMARY:Memorial Service
DESCRIPTION:
URL:https://www.wilkinsonfuneralhome.com/obituaries/james-walker-stowe
LOCATION: 301 Mount Olivet Road  Concord NC 28025
GEO:35.4526447;-80.6130563
END:VEVENT
END:VCALENDAR