BEGIN:VCALENDAR
VERSION:2.0
PRODID:-//Tukios.com/
BEGIN:VEVENT
UID:c616790a-4cd7-405a-b6d5-e4c9e16da741@www.wilkinsonfuneralhome.com
DTSTAMP:20260423T233449Z
DTSTART:20260502T210000Z
DTEND:20260502T230000Z
SUMMARY:Visitation
DESCRIPTION:
URL:https://www.wilkinsonfuneralhome.com/obituaries/james-walker-stowe
LOCATION:Wilkinson Funeral Home 100 Branchview Dr SE  Concord NC 28025
GEO:35.4173275;-80.5702643
END:VEVENT
END:VCALENDAR