BEGIN:VCALENDAR
VERSION:2.0
PRODID:-//Tukios.com/
BEGIN:VEVENT
UID:faacbbc3-33ec-4cf4-ac9e-f6fb0b1049e3@www.wilkinsonfuneralhome.com
DTSTAMP:20260421T192236Z
DTSTART:20260422T190000Z
DTEND:20260422T193000Z
SUMMARY:Graveside Service
DESCRIPTION:
URL:https://www.wilkinsonfuneralhome.com/obituaries/kenneth-sutton
LOCATION:Roberta Church Cemetery 3925 Cochran Rd  Concord NC 28027
GEO:35.350462;-80.6418034
END:VEVENT
END:VCALENDAR