BEGIN:VCALENDAR
VERSION:2.0
PRODID:-//Tukios.com/
BEGIN:VEVENT
UID:a54fdc6f-4e25-4f73-83a0-fbef6499e06c@www.wilkinsonfuneralhome.com
DTSTAMP:20260421T191934Z
DTSTART:20260422T180000Z
DTEND:20260422T190000Z
SUMMARY:Funeral Service
DESCRIPTION:
URL:https://www.wilkinsonfuneralhome.com/obituaries/kenneth-sutton
LOCATION:Roberta Church 3925 Cochran Rd  Concord NC 28027
GEO:35.350462;-80.6418034
END:VEVENT
END:VCALENDAR