BEGIN:VCALENDAR
VERSION:2.0
PRODID:-//Tukios.com/
BEGIN:VEVENT
UID:4076e710-9ebc-410d-add7-871f56fdd84f@www.wilkinsonfuneralhome.com
DTSTAMP:20260421T192413Z
DTSTART:20260422T170000Z
DTEND:20260422T180000Z
SUMMARY:Visitation
DESCRIPTION:
URL:https://www.wilkinsonfuneralhome.com/obituaries/kenneth-sutton
LOCATION:Roberta Church 3925 Cochran Rd  Concord NC 28027
GEO:35.350462;-80.6418034
END:VEVENT
END:VCALENDAR