BEGIN:VCALENDAR
VERSION:2.0
PRODID:-//Tukios.com/
BEGIN:VEVENT
UID:f278cfd1-aeda-44f4-a99a-bb53694458d1@www.wilkinsonfuneralhome.com
DTSTAMP:20260422T183503Z
DTSTART:20260425T180000Z
DTEND:20260425T190000Z
SUMMARY:Memorial Service
DESCRIPTION:
URL:https://www.wilkinsonfuneralhome.com/obituaries/michael-telford
LOCATION:Pitts Baptist Church 140 Pitts School Road NW  Concord NC 28027
GEO:35.3752361;-80.671957
END:VEVENT
END:VCALENDAR