BEGIN:VCALENDAR
VERSION:2.0
PRODID:-//Tukios.com/
BEGIN:VEVENT
UID:ced1d12d-5517-4a3c-b17f-8e2fde5f3de2@www.wilkinsonfuneralhome.com
DTSTAMP:20260425T180700Z
DTSTART:20260427T220000Z
DTEND:20260428T020000Z
SUMMARY:Visitation
DESCRIPTION:
URL:https://www.wilkinsonfuneralhome.com/obituaries/nicolas-rodriguez-de-la-cruz
LOCATION:Rodriguez Home 218 Epworth Street NW  Concord NC 28027
GEO:35.4054615;-80.6015939
END:VEVENT
END:VCALENDAR