BEGIN:VCALENDAR
VERSION:2.0
PRODID:-//Tukios.com/
BEGIN:VEVENT
UID:19e3e8e8-833d-4565-a724-3b6d290e379e@www.wilkinsonfuneralhome.com
DTSTAMP:20260425T180646Z
DTSTART:20260428T141500Z
DTEND:20260428T144500Z
SUMMARY:Graveside Service
DESCRIPTION:
URL:https://www.wilkinsonfuneralhome.com/obituaries/nicolas-rodriguez-de-la-cruz
LOCATION:St. James Catholic Church Cemetery 2323 Gold Hill Rd  Concord NC 
	28025
GEO:35.4293954;-80.5388098
END:VEVENT
END:VCALENDAR