BEGIN:VCALENDAR
VERSION:2.0
PRODID:-//Tukios.com/
BEGIN:VEVENT
UID:b4837975-3cc9-4708-855c-073c093ec618@www.wilkinsonfuneralhome.com
DTSTAMP:20260425T180616Z
DTSTART:20260428T130000Z
DTEND:20260428T140000Z
SUMMARY:Mass
DESCRIPTION:
URL:https://www.wilkinsonfuneralhome.com/obituaries/nicolas-rodriguez-de-la-cruz
LOCATION:St. James Catholic Church 139 Manor Ave SW  Concord NC 28025
GEO:35.3833978;-80.5627677
END:VEVENT
END:VCALENDAR